BEGIN:VCALENDAR
PRODID:-//github.com/rianjs/ical.net//NONSGML ical.net 4.0//EN
VERSION:2.0
BEGIN:VEVENT
DESCRIPTION:Kristi Himmelfartsdag
DTEND:20260514T235959
DTSTAMP:20260422T145459Z
DTSTART;VALUE=DATE:20260514
SEQUENCE:0
SUMMARY:Kristi Himmelfartsdag
UID:701db66b-4146-498c-b74e-6ba9f45cd989
END:VEVENT
END:VCALENDAR
