BEGIN:VCALENDAR
PRODID:-//github.com/rianjs/ical.net//NONSGML ical.net 4.0//EN
VERSION:2.0
BEGIN:VEVENT
DESCRIPTION:2. pinsedag
DTEND:20260525T235959
DTSTAMP:20260422T145801Z
DTSTART;VALUE=DATE:20260525
SEQUENCE:0
SUMMARY:2. pinsedag
UID:35e6d1dc-c503-40bd-b6b6-65c1b89bff6d
END:VEVENT
END:VCALENDAR
