BEGIN:VCALENDAR
PRODID:-//github.com/rianjs/ical.net//NONSGML ical.net 4.0//EN
VERSION:2.0
BEGIN:VEVENT
DESCRIPTION:Vitnemålsseremoni Chateau Neuf
DTEND:20260617T235959
DTSTAMP:20260422T144941Z
DTSTART;VALUE=DATE:20260617
SEQUENCE:0
SUMMARY:Vitnemålsseremoni Chateau Neuf
UID:0fe9effc-521b-49eb-a8cc-306e2d536bb1
END:VEVENT
END:VCALENDAR
