BEGIN:VCALENDAR
PRODID:-//github.com/rianjs/ical.net//NONSGML ical.net 4.0//EN
VERSION:2.0
BEGIN:VEVENT
DESCRIPTION:Fridag
DTEND:20270507T000000
DTSTAMP:20260422T145801Z
DTSTART:20270507T000000
SEQUENCE:0
SUMMARY:Fridag
UID:bfa7d70a-a327-45c5-835a-485fcf8e3234
END:VEVENT
END:VCALENDAR
