BEGIN:VCALENDAR
PRODID:-//github.com/rianjs/ical.net//NONSGML ical.net 4.0//EN
VERSION:2.0
BEGIN:VEVENT
DESCRIPTION:Grunnlovsdag
DTEND:20260517T235959
DTSTAMP:20260422T144916Z
DTSTART;VALUE=DATE:20260517
SEQUENCE:0
SUMMARY:Grunnlovsdag
UID:c36bd62d-771e-4c33-bf73-3eb197586c71
END:VEVENT
END:VCALENDAR
