BEGIN:VCALENDAR
PRODID:-//github.com/rianjs/ical.net//NONSGML ical.net 4.0//EN
VERSION:2.0
BEGIN:VEVENT
DESCRIPTION:Juleferie
DTEND:20270101T000000
DTSTAMP:20260422T145110Z
DTSTART:20261221T000000
SEQUENCE:0
SUMMARY:Juleferie
UID:efa6e4a2-7a85-416f-90b1-574e59344d13
END:VEVENT
END:VCALENDAR
