BEGIN:VCALENDAR
PRODID:-//github.com/rianjs/ical.net//NONSGML ical.net 4.0//EN
VERSION:2.0
BEGIN:VEVENT
DESCRIPTION:Høstferie
DTEND:20261002T000000
DTSTAMP:20260422T145426Z
DTSTART:20260928T000000
SEQUENCE:0
SUMMARY:Høstferie
UID:cc1dc1fc-dc97-4226-b366-1d988c3a4599
END:VEVENT
END:VCALENDAR
