BEGIN:VCALENDAR
PRODID:-//github.com/rianjs/ical.net//NONSGML ical.net 4.0//EN
VERSION:2.0
BEGIN:VEVENT
DESCRIPTION:Skolestart
DTEND:20270816T235959
DTSTAMP:20260422T144916Z
DTSTART;VALUE=DATE:20270816
SEQUENCE:0
SUMMARY:Skolestart
UID:b0f5d437-7c89-46c5-9c64-cf9405e5697e
END:VEVENT
END:VCALENDAR
